BEGIN:VCALENDAR
VERSION:2.0
PRODID:-//NMPAT - ECPv6.15.18//NONSGML v1.0//EN
CALSCALE:GREGORIAN
METHOD:PUBLISH
X-WR-CALNAME:NMPAT
X-ORIGINAL-URL:https://nmpat.co.uk
X-WR-CALDESC:Events for NMPAT
REFRESH-INTERVAL;VALUE=DURATION:PT1H
X-Robots-Tag:noindex
X-PUBLISHED-TTL:PT1H
BEGIN:VTIMEZONE
TZID:Europe/London
BEGIN:DAYLIGHT
TZOFFSETFROM:+0000
TZOFFSETTO:+0100
TZNAME:BST
DTSTART:20250330T010000
END:DAYLIGHT
BEGIN:STANDARD
TZOFFSETFROM:+0100
TZOFFSETTO:+0000
TZNAME:GMT
DTSTART:20251026T010000
END:STANDARD
BEGIN:DAYLIGHT
TZOFFSETFROM:+0000
TZOFFSETTO:+0100
TZNAME:BST
DTSTART:20260329T010000
END:DAYLIGHT
BEGIN:STANDARD
TZOFFSETFROM:+0100
TZOFFSETTO:+0000
TZNAME:GMT
DTSTART:20261025T010000
END:STANDARD
BEGIN:DAYLIGHT
TZOFFSETFROM:+0000
TZOFFSETTO:+0100
TZNAME:BST
DTSTART:20270328T010000
END:DAYLIGHT
BEGIN:STANDARD
TZOFFSETFROM:+0100
TZOFFSETTO:+0000
TZNAME:GMT
DTSTART:20271031T010000
END:STANDARD
END:VTIMEZONE
BEGIN:VEVENT
DTSTART;TZID=Europe/London:20260701T190000
DTEND;TZID=Europe/London:20260701T190000
DTSTAMP:20260419T173914
CREATED:20230425T150548Z
LAST-MODIFIED:20260120T102633Z
UID:2427-1782932400-1782932400@nmpat.co.uk
SUMMARY:Summer Choral Festival
DESCRIPTION:Featuring County Youth Choir\, County Chamber Choir and Guys & Dolls. \nTickets will be available on our Ticketsource shop at a later date. Click the ‘book now’ button below for access.
URL:https://nmpat.co.uk/whats-on/summer-choral-concert/
LOCATION:Christ Church\, 3 Christchurch Rd\, Northampton\, NN1 5LL\, United Kingdom
CATEGORIES:County Group Concert
ATTACH;FMTTYPE=image/jpeg:https://nmpat.co.uk/wp-content/uploads/2023/04/Choral_Fest_25-scaled.jpg
END:VEVENT
END:VCALENDAR