BEGIN:VCALENDAR
VERSION:2.0
PRODID:-//NMPAT - ECPv6.15.18//NONSGML v1.0//EN
CALSCALE:GREGORIAN
METHOD:PUBLISH
X-ORIGINAL-URL:https://nmpat.co.uk
X-WR-CALDESC:Events for NMPAT
REFRESH-INTERVAL;VALUE=DURATION:PT1H
X-Robots-Tag:noindex
X-PUBLISHED-TTL:PT1H
BEGIN:VTIMEZONE
TZID:Europe/London
BEGIN:DAYLIGHT
TZOFFSETFROM:+0000
TZOFFSETTO:+0100
TZNAME:BST
DTSTART:20240331T010000
END:DAYLIGHT
BEGIN:STANDARD
TZOFFSETFROM:+0100
TZOFFSETTO:+0000
TZNAME:GMT
DTSTART:20241027T010000
END:STANDARD
BEGIN:DAYLIGHT
TZOFFSETFROM:+0000
TZOFFSETTO:+0100
TZNAME:BST
DTSTART:20250330T010000
END:DAYLIGHT
BEGIN:STANDARD
TZOFFSETFROM:+0100
TZOFFSETTO:+0000
TZNAME:GMT
DTSTART:20251026T010000
END:STANDARD
BEGIN:DAYLIGHT
TZOFFSETFROM:+0000
TZOFFSETTO:+0100
TZNAME:BST
DTSTART:20260329T010000
END:DAYLIGHT
BEGIN:STANDARD
TZOFFSETFROM:+0100
TZOFFSETTO:+0000
TZNAME:GMT
DTSTART:20261025T010000
END:STANDARD
END:VTIMEZONE
BEGIN:VEVENT
DTSTART;VALUE=DATE:20251122
DTEND;VALUE=DATE:20251123
DTSTAMP:20260423T132635
CREATED:20251015T132252Z
LAST-MODIFIED:20251114T144432Z
UID:6112-1763769600-1763855999@nmpat.co.uk
SUMMARY:Saturday Centre Open Morning
DESCRIPTION:Join us on the morning of Saturday 22nd November for three hours of music and performing arts activities for free! Each centre will be open during their usual hours\, and open to KS2 children ready to join in with the fun and discover their creative potential! Find your local centre below: \n  \nBrackley and Cheney \nOpen 9.15am to 12.15pm. Bracken Leas Primary School\, Magdalen Meadows\, Brackley\, NN13 6LF \nFind out more \n  \nDaventry \nOpen 9.30am to 12.30pm. Danetre and Southbrook Learning Village\, Hawke Road\, Southbrook Estate\, Daventry\, NN11 4LJ \nFind out more \n  \nDuston \nOpen 9.30am to 12.30pm. Millway Primary School\, Millway\, Duston\, Northampton\, NN5 6ES \nFind out more \n  \nHolloway \nOpen 9.30am to 12.30pm. Malcolm Arnold Academy\, Trinity Avenue\, Northampton\, NN2 6JW \nFind out more \n  \nKettering \nOpen 9.00am to 12.00pm. The Latimer Arts College\, Castle Way\, Barton Seagrave\, Kettering\, NN15 6SW \nFind out more \n  \nNene Valley \nOpen 9.00am to 12.00pm. Oundle Primary School\, Cotterstock Road\, Oundle\, Peterborough\, PE8 5HA \nFind out more \n  \nWellingborough \nOpen 9.15am to 12.15pm. Sir Christopher Hatton Academy\, The Pyghtle\, Wellingborough\, Northants\, NN8 4RP \nFind out more \n  \nDid you know? \nNMPAT also has an after school club which operates in Towcester on Wednesdays? \nFind out more
URL:https://nmpat.co.uk/whats-on/saturday-centre-open-day/
LOCATION:Various\, Northamptonshire
CATEGORIES:Community Event,Family Event
ATTACH;FMTTYPE=image/png:https://nmpat.co.uk/wp-content/uploads/2025/10/Centre_OpenDay-1-scaled-e1760606661990.png
END:VEVENT
END:VCALENDAR