BEGIN:VCALENDAR
VERSION:2.0
PRODID:-//NMPAT - ECPv6.15.18//NONSGML v1.0//EN
CALSCALE:GREGORIAN
METHOD:PUBLISH
X-WR-CALNAME:NMPAT
X-ORIGINAL-URL:https://nmpat.co.uk
X-WR-CALDESC:Events for NMPAT
REFRESH-INTERVAL;VALUE=DURATION:PT1H
X-Robots-Tag:noindex
X-PUBLISHED-TTL:PT1H
BEGIN:VTIMEZONE
TZID:Europe/London
BEGIN:DAYLIGHT
TZOFFSETFROM:+0000
TZOFFSETTO:+0100
TZNAME:BST
DTSTART:20240331T010000
END:DAYLIGHT
BEGIN:STANDARD
TZOFFSETFROM:+0100
TZOFFSETTO:+0000
TZNAME:GMT
DTSTART:20241027T010000
END:STANDARD
BEGIN:DAYLIGHT
TZOFFSETFROM:+0000
TZOFFSETTO:+0100
TZNAME:BST
DTSTART:20250330T010000
END:DAYLIGHT
BEGIN:STANDARD
TZOFFSETFROM:+0100
TZOFFSETTO:+0000
TZNAME:GMT
DTSTART:20251026T010000
END:STANDARD
BEGIN:DAYLIGHT
TZOFFSETFROM:+0000
TZOFFSETTO:+0100
TZNAME:BST
DTSTART:20260329T010000
END:DAYLIGHT
BEGIN:STANDARD
TZOFFSETFROM:+0100
TZOFFSETTO:+0000
TZNAME:GMT
DTSTART:20261025T010000
END:STANDARD
END:VTIMEZONE
BEGIN:VEVENT
DTSTART;TZID=Europe/London:20251202T190000
DTEND;TZID=Europe/London:20251202T190000
DTSTAMP:20260423T131841
CREATED:20230711T093617Z
LAST-MODIFIED:20251008T084208Z
UID:2700-1764702000-1764702000@nmpat.co.uk
SUMMARY:Chamber Concert
DESCRIPTION:The first performance of the year for our Chamber Ensembles – County Clarinet Choir\, County Flute Choir\, County String Sinfonia\, with quartets to be announced. \nTickets are now available! Click the ‘book now’ button below to access our Ticketsource shop.
URL:https://nmpat.co.uk/whats-on/chamber-concert/
LOCATION:Mount Pleasant Baptist Church\, 147-155 Kettering Rd\, Northampton\, NN1 4BS\, United Kingdom
CATEGORIES:County Group Concert
ATTACH;FMTTYPE=image/jpeg:https://nmpat.co.uk/wp-content/uploads/2023/07/IMG_0077-scaled.jpg
END:VEVENT
BEGIN:VEVENT
DTSTART;TZID=Europe/London:20251210T190000
DTEND;TZID=Europe/London:20251210T190000
DTSTAMP:20260423T131841
CREATED:20230711T093710Z
LAST-MODIFIED:20250926T102617Z
UID:2692-1765393200-1765393200@nmpat.co.uk
SUMMARY:Choirs at Christmas
DESCRIPTION:Join us for a Christmas celebration with our County Choirs – NMPAT Singers\, County Chamber Choir\, Guys & Dolls\, County Youth Choir and the NMPAT Community Choir\, as well as the Tarrega Guitar Ensemble. \nTickets are now available! Click the ‘book now’ button below to access our Ticketsource shop.
URL:https://nmpat.co.uk/whats-on/choirs-at-christmas/
LOCATION:Northampton Cathedral\, Kingsthorpe Road\, Primrose Hill\, Northampton\, Northamtonshire\, NN2 6AG\, United Kingdom
CATEGORIES:County Group Concert
ATTACH;FMTTYPE=image/jpeg:https://nmpat.co.uk/wp-content/uploads/2023/07/IMG_9552-scaled.jpg
END:VEVENT
BEGIN:VEVENT
DTSTART;TZID=Europe/London:20251219T190000
DTEND;TZID=Europe/London:20251219T190000
DTSTAMP:20260423T131841
CREATED:20230711T093753Z
LAST-MODIFIED:20250926T102703Z
UID:2695-1766170800-1766170800@nmpat.co.uk
SUMMARY:End of Term Concert
DESCRIPTION:Rounding off the Autumn term with the final performance of 2025\, featuring the County Youth Orchestra and County Youth Concert Band. \nTickets are now available! Click the ‘book now’ button below to access our Ticketsource shop.
URL:https://nmpat.co.uk/whats-on/end-of-term-concert/
LOCATION:Spinney Theatre\, Northampton School for Girls\, Spinney Hill Road\, Northampton\, NN3 6DG\, United Kingdom
CATEGORIES:County Group Concert
ATTACH;FMTTYPE=image/jpeg:https://nmpat.co.uk/wp-content/uploads/2023/07/IMG_9194-scaled.jpg
END:VEVENT
END:VCALENDAR