BEGIN:VCALENDAR
VERSION:2.0
PRODID:-//NMPAT - ECPv6.15.18//NONSGML v1.0//EN
CALSCALE:GREGORIAN
METHOD:PUBLISH
X-WR-CALNAME:NMPAT
X-ORIGINAL-URL:https://nmpat.co.uk
X-WR-CALDESC:Events for NMPAT
REFRESH-INTERVAL;VALUE=DURATION:PT1H
X-Robots-Tag:noindex
X-PUBLISHED-TTL:PT1H
BEGIN:VTIMEZONE
TZID:Europe/London
BEGIN:DAYLIGHT
TZOFFSETFROM:+0000
TZOFFSETTO:+0100
TZNAME:BST
DTSTART:20250330T010000
END:DAYLIGHT
BEGIN:STANDARD
TZOFFSETFROM:+0100
TZOFFSETTO:+0000
TZNAME:GMT
DTSTART:20251026T010000
END:STANDARD
BEGIN:DAYLIGHT
TZOFFSETFROM:+0000
TZOFFSETTO:+0100
TZNAME:BST
DTSTART:20260329T010000
END:DAYLIGHT
BEGIN:STANDARD
TZOFFSETFROM:+0100
TZOFFSETTO:+0000
TZNAME:GMT
DTSTART:20261025T010000
END:STANDARD
BEGIN:DAYLIGHT
TZOFFSETFROM:+0000
TZOFFSETTO:+0100
TZNAME:BST
DTSTART:20270328T010000
END:DAYLIGHT
BEGIN:STANDARD
TZOFFSETFROM:+0100
TZOFFSETTO:+0000
TZNAME:GMT
DTSTART:20271031T010000
END:STANDARD
END:VTIMEZONE
BEGIN:VEVENT
DTSTART;TZID=Europe/London:20260301T180000
DTEND;TZID=Europe/London:20260301T180000
DTSTAMP:20260423T063807
CREATED:20221125T145446Z
LAST-MODIFIED:20260120T105305Z
UID:695-1772388000-1772388000@nmpat.co.uk
SUMMARY:Big Band Night
DESCRIPTION:Featuring the NMPAT County Jazz Bands in addition to improvisation workshop group\, Jazz Matters. \nTickets are available through the Castle Theatre box office.
URL:https://nmpat.co.uk/whats-on/big-band-night/
LOCATION:Castle Theatre\, 10 Castle Way\, Wellingborough\, NN8 1XA\, United Kingdom
CATEGORIES:County Group Concert
ATTACH;FMTTYPE=image/jpeg:https://nmpat.co.uk/wp-content/uploads/2023/07/IMG_6469-scaled.jpg
END:VEVENT
BEGIN:VEVENT
DTSTART;TZID=Europe/London:20260308T180000
DTEND;TZID=Europe/London:20260308T180000
DTSTAMP:20260423T063807
CREATED:20221125T152159Z
LAST-MODIFIED:20260120T102025Z
UID:701-1772992800-1772992800@nmpat.co.uk
SUMMARY:Orchestra Spectacular
DESCRIPTION:An opportunity to share inspiration and aspiration with the three County Orchestras. \nTickets are available from the Derngate box office.
URL:https://nmpat.co.uk/whats-on/orchestra-spectacular/
LOCATION:Derngate\, 19-21 Guildhall Road\, Northampton\, NN1 1DP\, United Kingdom
CATEGORIES:County Group Concert
ATTACH;FMTTYPE=image/jpeg:https://nmpat.co.uk/wp-content/uploads/2023/07/IMG_9194-scaled.jpg
END:VEVENT
BEGIN:VEVENT
DTSTART;TZID=Europe/London:20260315T180000
DTEND;TZID=Europe/London:20260315T180000
DTSTAMP:20260423T063807
CREATED:20221128T152114Z
LAST-MODIFIED:20260120T102407Z
UID:721-1773597600-1773597600@nmpat.co.uk
SUMMARY:Wind Band Spectacular
DESCRIPTION:An opportunity to share inspiration and aspiration as all generations of County Wind Orchestras perform. \nTickets are available from the Derngate box office. \n 
URL:https://nmpat.co.uk/whats-on/wind-band-spectacular/
LOCATION:Derngate\, 19-21 Guildhall Road\, Northampton\, NN1 1DP\, United Kingdom
CATEGORIES:County Group Concert
ATTACH;FMTTYPE=image/jpeg:https://nmpat.co.uk/wp-content/uploads/2022/11/Wind_Spec_25-scaled.jpg
END:VEVENT
END:VCALENDAR