BEGIN:VCALENDAR
VERSION:2.0
PRODID:-//NMPAT - ECPv6.15.18//NONSGML v1.0//EN
CALSCALE:GREGORIAN
METHOD:PUBLISH
X-WR-CALNAME:NMPAT
X-ORIGINAL-URL:https://nmpat.co.uk
X-WR-CALDESC:Events for NMPAT
REFRESH-INTERVAL;VALUE=DURATION:PT1H
X-Robots-Tag:noindex
X-PUBLISHED-TTL:PT1H
BEGIN:VTIMEZONE
TZID:Europe/London
BEGIN:DAYLIGHT
TZOFFSETFROM:+0000
TZOFFSETTO:+0100
TZNAME:BST
DTSTART:20240331T010000
END:DAYLIGHT
BEGIN:STANDARD
TZOFFSETFROM:+0100
TZOFFSETTO:+0000
TZNAME:GMT
DTSTART:20241027T010000
END:STANDARD
BEGIN:DAYLIGHT
TZOFFSETFROM:+0000
TZOFFSETTO:+0100
TZNAME:BST
DTSTART:20250330T010000
END:DAYLIGHT
BEGIN:STANDARD
TZOFFSETFROM:+0100
TZOFFSETTO:+0000
TZNAME:GMT
DTSTART:20251026T010000
END:STANDARD
BEGIN:DAYLIGHT
TZOFFSETFROM:+0000
TZOFFSETTO:+0100
TZNAME:BST
DTSTART:20260329T010000
END:DAYLIGHT
BEGIN:STANDARD
TZOFFSETFROM:+0100
TZOFFSETTO:+0000
TZNAME:GMT
DTSTART:20261025T010000
END:STANDARD
END:VTIMEZONE
BEGIN:VEVENT
DTSTART;TZID=Europe/London:20251008T180000
DTEND;TZID=Europe/London:20251008T210000
DTSTAMP:20260424T125120
CREATED:20250929T143000Z
LAST-MODIFIED:20250929T143000Z
UID:6073-1759946400-1759957200@nmpat.co.uk
SUMMARY:Echoes of Windrush: Music Event
DESCRIPTION:An evening of community creativity with Hip-Hop and Reggae artist\, Daniel Johnson and friends; exploring the legacy of Windrush through music\, poetry\, stories and sound. \nThe night begins with a screening of Daniel Johnson’s film The Visible Influence of Windrush on Contemporary British Music and Culture. From there\, the audience becomes part of the process: sharing words\, sounds\, stories\, and ideas that will be woven into new music\, poetry\, rap\, and spoken word. \nBring along a musical instrument\, an everyday object that makes sound\, or simply your voice and imagination. You can take part as much or as little as you like – whether that means singing\, rapping\, reading lyrics\, playing your instrument\, or just adding your ideas to the mix. \nThis is not just a performance – it’s an evening to create together. Be a part of the experience and come together as a community\, explore the legacy of Windrush\, and create something powerful in the moment. \nRegister your interest here: bit.ly/eowatnn
URL:https://nmpat.co.uk/whats-on/echoes-of-windrush-music-event/
LOCATION:NN Contemporary Art\, 24 Guildhall Road\, Northampton\, NN1 1DP
CATEGORIES:Community Event
ATTACH;FMTTYPE=image/png:https://nmpat.co.uk/wp-content/uploads/2025/09/ZSL_Competition_Image-5.png
END:VEVENT
END:VCALENDAR